BEGIN:VCALENDAR
VERSION:2.0
PRODID:-//fitnessvibes.gr - ECPv6.7.1//NONSGML v1.0//EN
CALSCALE:GREGORIAN
METHOD:PUBLISH
X-WR-CALNAME:fitnessvibes.gr
X-ORIGINAL-URL:https://fitnessvibes.gr
X-WR-CALDESC:fitnessvibes.gr - Εκδηλώσεις
REFRESH-INTERVAL;VALUE=DURATION:PT1H
X-Robots-Tag:noindex
X-PUBLISHED-TTL:PT1H
BEGIN:VTIMEZONE
TZID:Europe/Athens
BEGIN:DAYLIGHT
TZOFFSETFROM:+0200
TZOFFSETTO:+0300
TZNAME:EEST
DTSTART:20210328T010000
END:DAYLIGHT
BEGIN:STANDARD
TZOFFSETFROM:+0300
TZOFFSETTO:+0200
TZNAME:EET
DTSTART:20211031T010000
END:STANDARD
END:VTIMEZONE
BEGIN:VEVENT
DTSTART;TZID=Europe/Athens:20210410T100000
DTEND;TZID=Europe/Athens:20210411T180000
DTSTAMP:20260424T031951
CREATED:20210104T193836Z
LAST-MODIFIED:20210104T200024Z
UID:2386-1618048800-1618164000@fitnessvibes.gr
SUMMARY:Mermaiding Teacher Training -Κολύμβηση σαν γοργόνα
DESCRIPTION:Mermaiding Teacher Training\n10-11 Απριλίου 2021\nΏρες: 10:00-18:00\nΑΘΗΝΑ\n  \n\nΤο εκπαιδευτικό πρόγραμμα Mermaiding Teacher Training είναι ένα ολοκληρωμένο σύστημα εκπαίδευσης σχετικά με την «κολύμβηση σαν γοργόνα» – Mermaiding για παιδιά και ενήλικες.\nTo Mermaiding είναι η μεγαλύτερη τάση στον υγρό στίβο στην κολύμβηση αναψυχής για παιδιά και ενήλικες στην Αμερική και την Ευρώπη.\nΣυνδυάζει την επιστήμη της φυσικής αγωγής\,\nτο άθλημα και τα οφέλη της κολύμβησης\,\nτην τέχνη της καλλιτεχνικής κολύμβησης\,\nτη δυναμική του χορού στο νερό\nκαι την μαγεία των γοργόνων.\n\n– Συνδυάζοντας όλα τα παραπάνω η προπόνηση Mermaiding στο νερό γίνεται ευχάριστη\, ενδιαφέρουσα\, αποτελεσματική και ανεπανάληπτη.\n\n\n \n\nΗ Star Fitness School σε συνεργασία με την Greece AquaFitness\, φέρνουν πρώτες στην Ελλάδα\, για 1η φορά το εκπαιδευτικό πρόγραμμα – σεμινάριο Mermaiding.\nΟργάνωση και επιμέλεια προγράμματος: Κατερίνα Δημακοπούλου\nΕισηγητές:\nΚατερίνα Δημακοπούλου\, Καθηγήτρια Φυσικής Αγωγής\, Msc Παιδαγωγική και Δημιουργική Μάθηση\, Προπονήτρια Κολύμβησης\, Προπονήτρια Καλλιτεχνικής κολύμβησης\, Εκπαιδεύτρια Aerial Fitness\n\nΣε ποιους απευθύνεται:\nΚατάλληλο για Καθηγητές Φυσικής Αγωγής\, Προπονητές Κολύμβησης\, Προπονητές Καλλιτεχνικής κολύμβησης (συγχρονισμένης)\, Προπονητές Βρεφικής κολύμβησης\, Προπονητές Aquafitness\, Βοηθούς προπονητών σε πισίνα\, Antimatter σε ξενοδοχεία\, Προπονητές σε καλοκαιρινά camp\, όσους ασχολούνται με την προπόνηση στον υγρό στίβο\, Προπονητές σε κατασκηνώσεις\, Γονείς\, όσους αγαπούν τη κολύμβηση\, δραστηριοποιούνται με τα παιδιά και επιθυμούν να ασχοληθούν με τον χώρο του υγρού στίβου και να εμπλουτίσουν τη δουλειά τους. \n\nΣυνοπτική Ύλη Εκπαίδευσης:\n\nΑρχές mermaiding\nΧαρακτηριστικά ηλικιακών ομάδων\nΑσκησιολόγιο\nΠροθέρμανση & αποθεραπεία\nΆπνοια\nΠαιχνίδια\nΑγωνίσματα\nΧορογραφίες\nΔομή προπόνησης – προπονητικά περιεχόμενα\nΜεθοδολογία – ανάλυση ασκήσεων\nΔιδασκαλία σε ομάδες\nΑσφάλεια πισίνας – Ναυαγοσωστική\nΠροφίλ εκπαιδευτή\nΕξοπλισμός\nBusiness plan\n\n*Ο αριθμός των θέσεων είναι περιορισμένος. Σεβόμενοι την ποιότητα της εκπαίδευσης που προσφέρουμε διατηρούμε τον αριθμό των συμμετεχόντων στα εκπαιδευτικά μας προγράμματα ολιγομελή.\n*Θα τηρηθούν όλοι οι κανόνες ασφαλείας covid.\n\n\n \n\nΣτο εκπαιδευτικό αυτό πρόγραμμα περιλαμβάνονται:\n\nΈντυπο εγχειρίδιο.\nΕκπαιδευτικό Υλικό (εικόνες\, βίντεο\, μουσική\, παιχνίδια\, εξοπλισμός).\nΒεβαίωση παρακολούθησης.\nΥποστήριξη όλων των εκπαιδευόμενων καθ’ όλη αλλά και μετά το τέλος της εκπαίδευσης.\n\n\n\nΠληροφορίες – Δήλωση Συμμετοχής:\nΚατερίνα Δημακοπούλου 6972233590\, starfitnessschool@gmail.com
URL:https://fitnessvibes.gr/event/mermaiding-teacher-training/
LOCATION:Αττική\, Αττική\, Αττική\, Αττική\, Greece
CATEGORIES:Aqua,Fitness,Swimming,Teacher Training,Workshop,Σεμινάρια
ATTACH;FMTTYPE=image/jpeg:https://fitnessvibes.gr/wp-content/uploads/2021/01/mermaidingtt_april2021.jpg
ORGANIZER;CN="Star Fitness School":MAILTO:starfitnessschool@gmail.com
END:VEVENT
END:VCALENDAR